BEGIN:VCALENDAR
VERSION:2.0
PRODID:-//WASH is Everyone&#039;s Business - ECPv6.15.17.1//NONSGML v1.0//EN
CALSCALE:GREGORIAN
METHOD:PUBLISH
X-WR-CALNAME:WASH is Everyone&#039;s Business
X-ORIGINAL-URL:https://washcampaignuganda.org
X-WR-CALDESC:Events for WASH is Everyone&#039;s Business
REFRESH-INTERVAL;VALUE=DURATION:PT1H
X-Robots-Tag:noindex
X-PUBLISHED-TTL:PT1H
BEGIN:VTIMEZONE
TZID:Europe/Moscow
BEGIN:STANDARD
TZOFFSETFROM:+0300
TZOFFSETTO:+0300
TZNAME:MSK
DTSTART:20230101T000000
END:STANDARD
END:VTIMEZONE
BEGIN:VEVENT
DTSTART;VALUE=DATE:20250508
DTEND;VALUE=DATE:20250509
DTSTAMP:20260416T114220
CREATED:20241201T215613Z
LAST-MODIFIED:20250508T071652Z
UID:1982-1746662400-1746748799@washcampaignuganda.org
SUMMARY:Moroto National Summit
DESCRIPTION:Bringing together leaders\, partners & communities to drive action for inclusive\, sustainable water\, sanitation\, and hygiene in Karamoja and beyond.
URL:https://washcampaignuganda.org/activity/moroto-national-summit/
CATEGORIES:Campaign Activity
ATTACH;FMTTYPE=image/png:https://washcampaignuganda.org/wp-content/uploads/2024/12/Calendar-Icon.png
END:VEVENT
BEGIN:VEVENT
DTSTART;VALUE=DATE:20250421
DTEND;VALUE=DATE:20250422
DTSTAMP:20260416T114220
CREATED:20241201T215613Z
LAST-MODIFIED:20250116T084027Z
UID:1981-1745193600-1745279999@washcampaignuganda.org
SUMMARY:Eastern Regional Summit - Mbale
DESCRIPTION:
URL:https://washcampaignuganda.org/activity/eastern-regional-summit/
CATEGORIES:Campaign Activity
ATTACH;FMTTYPE=image/png:https://washcampaignuganda.org/wp-content/uploads/2024/12/Calendar-Icon.png
END:VEVENT
BEGIN:VEVENT
DTSTART;VALUE=DATE:20250324
DTEND;VALUE=DATE:20250325
DTSTAMP:20260416T114220
CREATED:20241201T215513Z
LAST-MODIFIED:20250116T084043Z
UID:1980-1742774400-1742860799@washcampaignuganda.org
SUMMARY:WASH Innovation Challenge
DESCRIPTION:
URL:https://washcampaignuganda.org/activity/wash-innovation-challenge/
CATEGORIES:Campaign Activity
ATTACH;FMTTYPE=image/png:https://washcampaignuganda.org/wp-content/uploads/2024/12/Calendar-Icon.png
END:VEVENT
BEGIN:VEVENT
DTSTART;VALUE=DATE:20250317
DTEND;VALUE=DATE:20250318
DTSTAMP:20260416T114220
CREATED:20241201T215416Z
LAST-MODIFIED:20250116T084056Z
UID:1983-1742169600-1742255999@washcampaignuganda.org
SUMMARY:Launch of Schools Best WASH Challenge
DESCRIPTION:
URL:https://washcampaignuganda.org/activity/launch-of-schools-best-wash-challenge/
CATEGORIES:Campaign Activity
ATTACH;FMTTYPE=image/png:https://washcampaignuganda.org/wp-content/uploads/2024/12/Calendar-Icon.png
END:VEVENT
BEGIN:VEVENT
DTSTART;VALUE=DATE:20250224
DTEND;VALUE=DATE:20250225
DTSTAMP:20260416T114220
CREATED:20241201T215213Z
LAST-MODIFIED:20250116T084111Z
UID:1979-1740355200-1740441599@washcampaignuganda.org
SUMMARY:Western Regional Summit
DESCRIPTION:
URL:https://washcampaignuganda.org/activity/western-regional-summit/
CATEGORIES:Campaign Activity
ATTACH;FMTTYPE=image/png:https://washcampaignuganda.org/wp-content/uploads/2024/12/Calendar-Icon.png
END:VEVENT
BEGIN:VEVENT
DTSTART;VALUE=DATE:20250120
DTEND;VALUE=DATE:20250121
DTSTAMP:20260416T114220
CREATED:20241201T211013Z
LAST-MODIFIED:20250116T084132Z
UID:1978-1737331200-1737417599@washcampaignuganda.org
SUMMARY:Local Government Score Card
DESCRIPTION:
URL:https://washcampaignuganda.org/activity/local-government-score-card/
CATEGORIES:Campaign Activity
ATTACH;FMTTYPE=image/png:https://washcampaignuganda.org/wp-content/uploads/2024/12/Calendar-Icon.png
END:VEVENT
BEGIN:VEVENT
DTSTART;VALUE=DATE:20241202
DTEND;VALUE=DATE:20241203
DTSTAMP:20260416T114220
CREATED:20241201T050824Z
LAST-MODIFIED:20250116T084153Z
UID:1956-1733097600-1733183999@washcampaignuganda.org
SUMMARY:Nothern Regional Summit - Arua
DESCRIPTION:
URL:https://washcampaignuganda.org/activity/nothern-regional-summit/
CATEGORIES:Campaign Activity
ATTACH;FMTTYPE=image/png:https://washcampaignuganda.org/wp-content/uploads/2024/12/Calendar-Icon.png
END:VEVENT
END:VCALENDAR