BEGIN:VCALENDAR
VERSION:2.0
PRODID:-//WASH is Everyone&#039;s Business - ECPv6.15.17.1//NONSGML v1.0//EN
CALSCALE:GREGORIAN
METHOD:PUBLISH
X-ORIGINAL-URL:https://washcampaignuganda.org
X-WR-CALDESC:Events for WASH is Everyone&#039;s Business
REFRESH-INTERVAL;VALUE=DURATION:PT1H
X-Robots-Tag:noindex
X-PUBLISHED-TTL:PT1H
BEGIN:VTIMEZONE
TZID:Europe/Moscow
BEGIN:STANDARD
TZOFFSETFROM:+0300
TZOFFSETTO:+0300
TZNAME:MSK
DTSTART:20230101T000000
END:STANDARD
END:VTIMEZONE
BEGIN:VEVENT
DTSTART;TZID=Europe/Moscow:20241202T190000
DTEND;TZID=Europe/Moscow:20241202T200000
DTSTAMP:20260421T191026
CREATED:20241201T052602Z
LAST-MODIFIED:20241215T145154Z
UID:1959-1733166000-1733169600@washcampaignuganda.org
SUMMARY:Why Should WASH Be Everyone's Business?
DESCRIPTION:Join us to discover how safe sanitation transforms health\, education\, and communities. Don’t miss this insightful discussion! \n\nHost: Naomi Kabarungi | Communication & Advocacy Manager | IRC WASH Uganda\nGuest: Hajra Comfort | Director of Programs | WaterAid Uganda\nDate: 2nd December 2024\nTime: 7:00 PM (E.A.T)\nPlatform: X (Twitter) Spaces\nHandle: @WASHCampaign\n\n 
URL:https://washcampaignuganda.org/activity/why-should-wash-be-everyones-business/
CATEGORIES:X Space
ATTACH;FMTTYPE=image/jpeg:https://washcampaignuganda.org/wp-content/uploads/2024/12/Why-Should-WASH-Be-Everyones-Business.jpeg
END:VEVENT
END:VCALENDAR